BEGIN:VCALENDAR
METHOD:PUBLISH
PRODID:https://www.sintef.no
VERSION:2.0
BEGIN:VEVENT
DESCRIPTION:DigiPro Centres fjerde fysiske medlemssamling arrangeres onsda
 g 23. april\, etterfulgt av «4th Conference on Digitalisation for Sustain
 able Process Industries» dagen etter.
DTEND:20250423T140000
DTSTAMP:20260424T164018Z
DTSTART:20250423T090000
LOCATION:Norsk Hydro\, Vækerø\, Drammensveien 264\, 0283 Oslo\, Norway
SEQUENCE:0
SUMMARY:DigiPro Centre medlemssamling 2025
UID:5232a7d5-b983-4a14-9a05-1134e6996d0e
END:VEVENT
END:VCALENDAR
