BEGIN:VCALENDAR
METHOD:PUBLISH
PRODID:https://www.sintef.no
VERSION:2.0
BEGIN:VEVENT
DESCRIPTION:Påmeldingsfrist: 25.11.2025\n\nPå årets Tekmar\, vil prosjekte
 t VELDOK presentere forslag til veileder for å dokumentere fiskevelferd v
 ed utvikling av ny teknologi.
DTEND:20251203T153000
DTSTAMP:20260421T103641Z
DTSTART:20251203T140000
LOCATION:Clarion Hotel Brattøra\, Trondheim\, Brattørkaia 1\, 7010 Trondhe
 im
SEQUENCE:0
SUMMARY:Dialogmøte om dokumentasjon av fiskevelferd ved utvikling av ny te
 knologi
UID:36fbb17b-0a79-4129-9616-337dc81d8b66
END:VEVENT
END:VCALENDAR
