BEGIN:VCALENDAR
METHOD:PUBLISH
PRODID:https://www.sintef.no
VERSION:2.0
BEGIN:VEVENT
DESCRIPTION:22. mai er den internasjonale dagen for biologisk mangfold. Vi
  feirer anledningen med et webinar om Naturpanelet (Intergovernmental Sci
 ence-Policy Platform on Biodiversity - IPBES).
DTEND:20240522T110000
DTSTAMP:20260426T035644Z
DTSTART:20240522T100000
LOCATION:Webinar
SEQUENCE:0
SUMMARY:Webinar: Hva er egentlig Naturpanelet (IPBES)?
UID:a7824659-7a71-45b5-9964-ff1f15e56981
END:VEVENT
END:VCALENDAR
