BEGIN:VCALENDAR
METHOD:PUBLISH
PRODID:https://www.sintef.no
VERSION:2.0
BEGIN:VEVENT
DESCRIPTION:Hva er en digital stasjon? Hva slags forbedringer kan en digit
 al stasjon gi? Hvilke utfordringer er knyttet til digital stasjon sammenl
 ignet med en konvensjonell stasjon?
DTEND:20240822T114000
DTSTAMP:20260421T102251Z
DTSTART:20240822T110000
LOCATION:Webinar
SEQUENCE:0
SUMMARY:Webinar: ECoDiS Implementering av digitale stasjoner
UID:cfe7df3b-59cc-422c-a716-18ef2f3e251c
END:VEVENT
END:VCALENDAR
