BEGIN:VCALENDAR
METHOD:PUBLISH
PRODID:https://www.sintef.no
VERSION:2.0
BEGIN:VEVENT
DESCRIPTION:Risiko\, nett-utnytting og samanhengen mellom komponenttilstan
 d og leveringspålitelegheit.
DTEND:20240216T140000
DTSTAMP:20260423T232200Z
DTSTART:20240216T130000
LOCATION:Teams
SEQUENCE:0
SUMMARY:CINELDI webinar: Resultat fra KSP-prosjektet VulPro
UID:213f0300-08a5-4c5d-b8bf-eb6ea418eaa4
END:VEVENT
END:VCALENDAR
