BEGIN:VCALENDAR
METHOD:PUBLISH
PRODID:https://www.sintef.no
VERSION:2.0
BEGIN:VEVENT
DESCRIPTION:Bli med på workshop for å etablere samarbeid og lære om muligh
 etene med Generativ KI i kombinasjon med robotikk\, data og annen KI inne
 n inspeksjon og vedlikehold.
DTEND;VALUE=DATE:20241105
DTSTAMP:20260423T171054Z
DTSTART;VALUE=DATE:20241104
LOCATION:Evoluon\, Eindhoven\, Nederland\, Noord Brabantlaan 1a\, 5652 LA 
 Eindhoven\, Nederland
SEQUENCE:0
SUMMARY:Generativ KI i inspeksjon og vedlikehold: Læring på tvers av sekto
 rer\, bruker-case\, og fremtidige utfordringer og muligheter
UID:c035cc43-a1c0-4ec2-87c4-79e4613a5db1
END:VEVENT
END:VCALENDAR
