BEGIN:VCALENDAR
METHOD:PUBLISH
PRODID:https://www.sintef.no
VERSION:2.0
BEGIN:VEVENT
DESCRIPTION:Påmeldingsfrist: 28.02.2026\n\nWorkshopen avholdes i den nye L
 eanLaben til katapult-senteret Manufacturing Technology på Raufoss. Her b
 ruker vi  Norges eneste fullskala produksjonssimulator som case for øving
 soppgavene.
DTEND:20260305T160000
DTSTAMP:20260421T185605Z
DTSTART:20260303T090000
LOCATION:Leanlab i katapultsenteret Manufacturing Technology\, Kortosveien
 \, 2830 Raufoss
SEQUENCE:0
SUMMARY:3-dagers workshop i Praktisk Leanarbeid
UID:27ee80b7-4230-4ffe-afb2-baa783ed365e
END:VEVENT
END:VCALENDAR
