BEGIN:VCALENDAR
METHOD:PUBLISH
PRODID:https://www.sintef.no
VERSION:2.0
BEGIN:VEVENT
DESCRIPTION:Påmeldingsfrist: 18.04.2023\n\nHydrogentog\, batteritog\, kont
 aktledning – mulighetene for å komme seg fram med grønn energi på jernban
 en er mange\, men hva som lønner seg for samfunnet må vi forske oss fram 
 til riktig svar på. Nå vil vi dele kunnskapen vi sitter på\, og samtidig 
 få inn nye tanker gjennom en gratis workshop med foredrag og gode diskusj
 oner.
DTEND:20230425T160000
DTSTAMP:20260424T162024Z
DTSTART:20230425T090000
LOCATION:Thon Hotel Arena\, Lillestrøm\, Nesgata 1\, 2004 Lillestrøm
SEQUENCE:0
SUMMARY:Workshop om hydrogen- og nullutslipps-tog
UID:6c1dc440-17cb-42f7-9350-a1c84bcbacd2
END:VEVENT
END:VCALENDAR
