BEGIN:VCALENDAR
METHOD:PUBLISH
PRODID:https://www.sintef.no
VERSION:2.0
BEGIN:VEVENT
DESCRIPTION:Påmeldingsfrist: 31.05.2023\n\nWelcome to the 2nd hydrogen and
  materials integrity workshop hosted by SINTEF and NTNU in Trondheim\, 6-
 7th June\, 2023.
DTEND:20230607T120000
DTSTAMP:20260423T021053Z
DTSTART:20230606T081500
LOCATION:NTNU\, Gløshaugen\, Realfagbygget\, Auditorium R8\, Høgskoleringe
 n 5\, 7034 Trondheim
SEQUENCE:0
SUMMARY:Hydrogen and Materials Integrity Workshop
UID:47c9635c-da54-4fd1-be7a-7b5b9350f9e2
END:VEVENT
END:VCALENDAR
