BEGIN:VCALENDAR
METHOD:PUBLISH
PRODID:https://www.sintef.no
VERSION:2.0
BEGIN:VEVENT
DESCRIPTION:Påmeldingsfrist: 27.11.2023\n\nGeminisenteret Metallforming in
 viterer til et seminar innenfor fagområdet forming av metalliske material
 er.
DTEND:20231130T160000
DTSTAMP:20260421T115003Z
DTSTART:20231130T103000
LOCATION:Raufoss\, Kortosvegen\, 2830 Raufoss
SEQUENCE:0
SUMMARY:Gemini seminar - metallforming
UID:f420ff1f-2bb7-41a4-a9fe-a50e475f5b8e
END:VEVENT
END:VCALENDAR
