BEGIN:VCALENDAR
METHOD:PUBLISH
PRODID:https://www.sintef.no
VERSION:2.0
BEGIN:VEVENT
DESCRIPTION:Påmeldingsfrist: 25.04.2023\n\nSiden 2016 har studenter\, fors
 kere og industri jobbet sammen i forskningssenteret HighEFF for å reduser
 e spesifikt energibruk i industriens produksjonsprosesser.
DTEND:20230503T163000
DTSTAMP:20260423T000941Z
DTSTART:20230503T090000
LOCATION:NTNU - Gløshaugen\, Kjelhuset\, Auditorium Kjel 2\, Kolbjørn Heje
 s vei 1E\, Trondheim
SEQUENCE:0
SUMMARY:Energieffektivisering: Slik vil industrien frigjøre 20 TWh konflik
 tfri energi
UID:134b5781-5260-4327-95cf-c8dd9fcee796
END:VEVENT
END:VCALENDAR
