BEGIN:VCALENDAR
METHOD:PUBLISH
PRODID:https://www.sintef.no
VERSION:2.0
BEGIN:VEVENT
DESCRIPTION:Kurset gir grunnkunnskap om utbredelse av radon\, helsefare\, 
 lover og regler\, målinger og aktuelle tiltak i eksisterende og nye bygg.
DTEND:20240214T160000
DTSTAMP:20260419T125900Z
DTSTART:20240214T093000
LOCATION:SINTEF \, Forskningsveien 1\, 0373 Oslo
SEQUENCE:0
SUMMARY:Radon fagkurs
UID:03d20f3a-a3fa-48df-95fe-2f1978ac4274
END:VEVENT
END:VCALENDAR
