BEGIN:VCALENDAR
METHOD:PUBLISH
PRODID:https://www.sintef.no
VERSION:2.0
BEGIN:VEVENT
DESCRIPTION:Bli med oss når vi utforskar dei moglegheitene overskotsvarme 
 frå industrien gir til berekraftig matproduksjon og auka verdiskaping.
DTEND:20220524T210000
DTSTAMP:20260423T001911Z
DTSTART:20220524T180000
LOCATION:Storstov\, Hellandsbygd
SEQUENCE:0
SUMMARY:Overskotsvarme frå industrien gir muligheter for auka bærekraftig 
 verdiskaping
UID:4638763d-bd45-473d-b355-4483b8a31098
END:VEVENT
END:VCALENDAR
