BEGIN:VCALENDAR
METHOD:PUBLISH
PRODID:https://www.sintef.no
VERSION:2.0
BEGIN:VEVENT
DESCRIPTION:Smartgridsenteret og FME CINELDI inviterer til fagseminar om f
 leksibilitet.
DTEND:20220321T133000
DTSTAMP:20260422T085009Z
DTSTART:20220321T120000
LOCATION:Microsoft Teams meeting
SEQUENCE:0
SUMMARY:Fagseminar: Kan fleksibilitet bidra til å unngå eller utsette nett
 investeringer?
UID:0e968b9d-f095-4ce8-ae73-97e4fde1a4fa
END:VEVENT
END:VCALENDAR
