BEGIN:VCALENDAR
METHOD:PUBLISH
PRODID:https://www.sintef.no
VERSION:2.0
BEGIN:VEVENT
DESCRIPTION:Påmeldingsfrist: 01.11.2022\n\nVelkommen til CINELDI-dagene 20
 22!
DTEND:20221108T171000
DTSTAMP:20260421T085938Z
DTSTART:20221108T100000
LOCATION:Scandic Nidelven\, Trondheim\, Havnegata 1-3\, 7010 Trondheim
SEQUENCE:0
SUMMARY:CINELDI-dagene 2022 - Åpen dag
UID:45b7fce2-c4bd-46b1-a9d4-a6430c53c7c8
END:VEVENT
END:VCALENDAR
