BEGIN:VCALENDAR
METHOD:PUBLISH
PRODID:https://www.sintef.no
VERSION:2.0
BEGIN:VEVENT
DESCRIPTION:Påmeldingsfrist: 24.11.2021\n\nBli med norske og internasjonal
 e beslutningstakere\, interessenter\, forskere og bedrifter på denne konf
 eransen og matchmaking-arrangementet for å dele den nyeste kunnskapen og 
 skape nye muligheter i overgangen til en sirkulær økonomi.
DTEND:20211125T190000
DTSTAMP:20260426T011645Z
DTSTART:20211125T090000
LOCATION:Digitalt
SEQUENCE:0
SUMMARY:The 5th Norwegian Circular Economy Conference
UID:a1b09a4f-1672-44cc-97f7-6c83f945401d
END:VEVENT
END:VCALENDAR
