BEGIN:VCALENDAR
METHOD:PUBLISH
PRODID:https://www.sintef.no
VERSION:2.0
BEGIN:VEVENT
DESCRIPTION:Med video fra webinaret - Utbygging av nett-tilknyttet solener
 giproduksjon øker voldsomt internasjonalt\, og utbyggingstakten tar seg o
 gså opp i Norge. - Webinar in Norwegian.
DTEND:20211104T100000
DTSTAMP:20260421T103512Z
DTSTART:20211104T090000
LOCATION:Webinar
SEQUENCE:0
SUMMARY:SOLAR ENERGY Webinar - Integrasjon av solcelleanlegg i det elektri
 ske distribusjonsnettet
UID:b07e516a-23b4-4252-bccd-45992322165f
END:VEVENT
END:VCALENDAR
