BEGIN:VCALENDAR
METHOD:PUBLISH
PRODID:https://www.sintef.no
VERSION:2.0
BEGIN:VEVENT
DESCRIPTION:I flere tiår har Nordsjøen vært en økonomisk gullgruve for Nor
 ge. Det har også vært en inkubator for verdensledende innovasjon\, forskn
 ing og teknologiutvikling. Nå må vi tenke nytt. Europa ønsker energiløsni
 nger uten utslipp og klima krever dette. Hvordan kan Nordsjøen bli en pla
 ttform for grønn omstilling?
DTEND:20210816T121500
DTSTAMP:20260424T203136Z
DTSTART:20210816T110000
LOCATION:Jubileumsscene Bærekraftscenen
SEQUENCE:0
SUMMARY:Arendalsuka 16. august 2021: Nordsjøen som plattform for grønn oms
 tilling
UID:088b7e9a-1e8b-44e3-9f43-89943d71a1cb
END:VEVENT
END:VCALENDAR
