BEGIN:VCALENDAR
METHOD:PUBLISH
PRODID:https://www.sintef.no
VERSION:2.0
BEGIN:VEVENT
DESCRIPTION:Kompetanseforum for krevende fartøysoperasjoner inviterer til 
 nytt møte om grønn design og værbegrensninger. Møtet vil foregå digitalt.
  Tema som vil bli diskutert er\, blant annet\, myndigheter og omstilling 
 til grønn skipsfart\, design og operasjonelle utfordringer\, redusert dri
 vstofforbruk og økt komfort og eksperimentelle forsøk med vindassistert p
 ropulsjon.
DTEND:20211130T113000
DTSTAMP:20260424T084350Z
DTSTART:20211130T084500
LOCATION:Digitalt
SEQUENCE:0
SUMMARY:Grønn skipsdesign og operasjonelle værbegrensninger
UID:758b75b1-3278-4ac8-a3e9-ed0d76b405ac
END:VEVENT
END:VCALENDAR
