BEGIN:VCALENDAR
METHOD:PUBLISH
PRODID:https://www.sintef.no
VERSION:2.0
BEGIN:VEVENT
DESCRIPTION:I flere tiår har Nordsjøen vært en økonomisk gullgruve for Nor
 dsjølandene.
DTEND:20211109T133000
DTSTAMP:20260424T133925Z
DTSTART:20211109T120000
LOCATION:COP26\, Hall 4 \, PV 63\, Blue Zone\, Bellona Pavilion\, Exhibiti
 on Way\, Glasgow G3 8YW\, Storbritannia
SEQUENCE:0
SUMMARY:COP26: Nordsjøen som plattform for grønn omstilling
UID:29c44d53-1dd9-46c1-823a-9d80444b5fad
END:VEVENT
END:VCALENDAR
