BEGIN:VCALENDAR
METHOD:PUBLISH
PRODID:https://www.sintef.no
VERSION:2.0
BEGIN:VEVENT
DESCRIPTION:Påmeldingsfrist: 20.10.2020\n\nVelkommen til en presentasjon a
 v de siste forskningsresultater på forbedret betong med lengre levetid. I
  workshopen skal vi diskutere ulike bruksområder til den nye betongen. Mø
 tet er beregnet for norske aktører innenfor ulike bransjer\, fra material
 produsenter til konsulenter\, entreprenører og byggherrer.
DTEND:20201030T130000
DTSTAMP:20260422T204423Z
DTSTART:20201030T090000
LOCATION:CLARION HOTEL OSLO\, OSLO\, Dronning Eufemias gate 17-21\, 0191 O
 slo
SEQUENCE:0
SUMMARY:Workshop om forbedret betong med lengre levetid
UID:49f28626-d24d-4a05-98b2-76a0fcc90b84
END:VEVENT
END:VCALENDAR
