BEGIN:VCALENDAR
METHOD:PUBLISH
PRODID:https://www.sintef.no
VERSION:2.0
BEGIN:VEVENT
DESCRIPTION:Nor-Fishing er et internasjonalt møtepunkt for aktører innen f
 iskeri\, og en viktig arena for å presentere ny teknologi for bransjen.
DTEND;VALUE=DATE:20200821
DTSTAMP:20260423T213454Z
DTSTART;VALUE=DATE:20200818
LOCATION:Digitalt
SEQUENCE:0
SUMMARY:Nor-Fishing 2020 Digital
UID:8206f297-60e4-4b46-9cd4-3afe17f11a8d
END:VEVENT
END:VCALENDAR
