BEGIN:VCALENDAR
METHOD:PUBLISH
PRODID:https://www.sintef.no
VERSION:2.0
BEGIN:VEVENT
DESCRIPTION:Innovative oppvarmingsløsninger for nye bydeler - hvordan gir 
 lavere temperatur nye muligheter for å integrere overskuddsvarme i byens 
 energisystem.
DTEND:20201117T113000
DTSTAMP:20260422T084939Z
DTSTART:20201117T103000
LOCATION:
SEQUENCE:0
SUMMARY:Hvordan utnytte byenes energikilder?
UID:81e158d1-8dac-452d-8f16-f8293b2f5fc4
END:VEVENT
END:VCALENDAR
