BEGIN:VCALENDAR
METHOD:PUBLISH
PRODID:https://www.sintef.no
VERSION:2.0
BEGIN:VEVENT
DESCRIPTION:Påmeldingsfrist: 31.01.2019\n\nTEKSET 2019 arrangeres 12. og 1
 3. februar 2019 på Clarion Hotel & Congress i Trondheim. TEKSET har blitt
  en årlig arena for aktører i norsk oppdrettsnæring der utfordringer og f
 remtidens løsninger relatert til teknologi og drift/operasjon av settefis
 k og landbaserte anlegg tas opp.
DTEND:20190213T140000
DTSTAMP:20260420T201838Z
DTSTART:20190212T110000
LOCATION:Clarion Hotell & Congress\, Brattørkaia 1\, 7010 Trondheim
SEQUENCE:0
SUMMARY:TEKSET 2019
UID:7336794f-db53-4611-8cd7-3c0d6c1dfabe
END:VEVENT
END:VCALENDAR
