BEGIN:VCALENDAR
METHOD:PUBLISH
PRODID:https://www.sintef.no
VERSION:2.0
BEGIN:VEVENT
DESCRIPTION:Påmeldingsfrist: 20.08.2019\n\nSINTEF Ocean inviterer til frok
 ostseminar om arbeidsmiljø\, helse og sikkerhet i havbruksnæringen torsda
 g den 22. august kl: 8:00-10:00. Arrangementet er gratis og åpent for all
 e.
DTEND:20190822T100000
DTSTAMP:20260423T200933Z
DTSTART:20190822T080000
LOCATION:Work Work\, Munkegata 58\, 7011 Trondheim
SEQUENCE:0
SUMMARY:Status for arbeidsmiljø i havbruksnæringen - Velkommen til frokost
 seminar
UID:9b678dc4-e12f-4bc6-9e0b-f0532e61ed65
END:VEVENT
END:VCALENDAR
