BEGIN:VCALENDAR
METHOD:PUBLISH
PRODID:https://www.sintef.no
VERSION:2.0
BEGIN:VEVENT
DESCRIPTION:Vi inviterer til sidearrangement til Aqua Nor med tema fartøys
 operasjoner ved eksponerte havbruksanlegg.
DTEND:20190821T153000
DTSTAMP:20260423T200841Z
DTSTART:20190821T123000
LOCATION:AquaNor\, Stadion 2.etg.\, Klostergata 86\, 7030 Trondheim
SEQUENCE:0
SUMMARY:Fartøysoperasjoner ved eksponerte havbruksanlegg
UID:1d9942a4-9c41-4765-b36a-eb1aefd9004c
END:VEVENT
END:VCALENDAR
