BEGIN:VCALENDAR
METHOD:PUBLISH
PRODID:https://www.sintef.no
VERSION:2.0
BEGIN:VEVENT
DESCRIPTION:Påmeldingsfrist: 22.03.2019\n\nKonsortieintern dag for partner
 ne i CINELDI
DTEND:20190410T150000
DTSTAMP:20260424T190423Z
DTSTART:20190410T090000
LOCATION:Radisson Blu Royal Garden Hotel\, Kjøpmannsgata 73\, 7010 Trondhe
 im
SEQUENCE:0
SUMMARY:CINELDI Partner Day 2019
UID:ca5634c3-11e2-4484-bc94-98354be18e94
END:VEVENT
END:VCALENDAR
