BEGIN:VCALENDAR
METHOD:PUBLISH
PRODID:https://www.sintef.no
VERSION:2.0
BEGIN:VEVENT
DESCRIPTION:Påmeldingsfrist: 20.08.2019\n\nVelkommen til demonstrasjon av 
 åpen merd i bølger (modellforsøk) og til interessante presentasjoner.
DTEND:20190821T180000
DTSTAMP:20260423T200808Z
DTSTART:20190821T160000
LOCATION:Havbassenget\, SINTEF Ocean\, Prof. J. H. Vogts vei 1\, 7052 Tron
 dheim
SEQUENCE:0
SUMMARY:Åpen dag i havbassenget
UID:413164ec-cdcc-4b67-84d8-b5242b2524a5
END:VEVENT
END:VCALENDAR
