BEGIN:VCALENDAR
METHOD:PUBLISH
PRODID:https://www.sintef.no
VERSION:2.0
BEGIN:VEVENT
DESCRIPTION:Påmeldingsfrist: 07.11.2018\n\nWe would like to invite you to 
 join us at the presentation of results from the PROMAC projects and meet 
 with the stakeholders involved in the seaweed industry in Ålesund.
DTEND:20181110T130000
DTSTAMP:20260420T183540Z
DTSTART:20181108T210000
LOCATION:Norsk Maritimt Konferansesenter\, Borgundveien 340\, 6009 Ålesund
SEQUENCE:0
SUMMARY:Promac Final Conference
UID:1b039fdb-1617-498a-94a9-0019c2f74037
END:VEVENT
END:VCALENDAR
