BEGIN:VCALENDAR
METHOD:PUBLISH
PRODID:https://www.sintef.no
VERSION:2.0
BEGIN:VEVENT
DESCRIPTION:Påmeldingsfrist: 11.11.2018\n\nKlimamarin øker kunnskapen om h
 vordan fiskeri- og havbruksnæringen kan tilpasse seg global oppvarming og
  bli en del av fremtidens lavutslippssamfunn. Konferansen arrangeres 13.-
 14. november på Scandic Nidelven i Trondheim.
DTEND:20181114T140000
DTSTAMP:20260425T234624Z
DTSTART:20181113T110000
LOCATION:Scandic Nidelven\, Havnegata 1-3\, Trondheim
SEQUENCE:0
SUMMARY:Klimamarin 2018
UID:b73fea54-5c9c-41a3-bd01-79e57a4e3d42
END:VEVENT
END:VCALENDAR
