BEGIN:VCALENDAR
METHOD:PUBLISH
PRODID:https://www.sintef.no
VERSION:2.0
BEGIN:VEVENT
DESCRIPTION:Påmeldingsfrist: 05.05.2017\n\nBrukermøte i produksjonsplanleg
 ging er et viktig møteplass mellom forskere og brukere av verktøy for kor
 t- og langtids produksjonsplanlegging\, prisprognoser og systemanalyse.
DTEND:20170211T150000
DTSTAMP:20260424T164741Z
DTSTART:20170510T090000
LOCATION:Thon Hotel Prinsen\, Kongens Gate 30\, 7012 Trondheim
SEQUENCE:0
SUMMARY:Brukermøte Produksjonsplanlegging 2017
UID:67ded3b9-58bb-456b-bcb5-238d21c4ead0
END:VEVENT
END:VCALENDAR
