BEGIN:VCALENDAR
METHOD:PUBLISH
PRODID:https://www.sintef.no
VERSION:2.0
BEGIN:VEVENT
DESCRIPTION:Under Aqua Nor inviterer vi til et åpent miniseminar med påføl
 gende demonstrasjoner og diskusjon på kaikanten.
DTEND:20170817T180000
DTSTAMP:20260421T143001Z
DTSTART:20170817T150000
LOCATION:Maritime Robotics\, Brattørkaia 11\, 7010 Trondheim
SEQUENCE:0
SUMMARY:Autonomous aquaculture – the game is changing
UID:21487fde-5ffa-4ea5-92c5-c4f4465b01e6
END:VEVENT
END:VCALENDAR
