BEGIN:VCALENDAR
METHOD:PUBLISH
PRODID:https://www.sintef.no
VERSION:2.0
BEGIN:VEVENT
DESCRIPTION:Shipping 4.0 – Smart bruk av operasjonelle data
DTEND:20171026T130000
DTSTAMP:20260423T152932Z
DTSTART:20171025T120000
LOCATION:Otto Nielsens vei 10
SEQUENCE:0
SUMMARY:Åpent MAROFF Formidlingsmøte
UID:726da413-425e-473d-a9a8-183c11177853
END:VEVENT
END:VCALENDAR
