BEGIN:VCALENDAR
METHOD:PUBLISH
PRODID:https://www.sintef.no
VERSION:2.0
BEGIN:VEVENT
DESCRIPTION:Trøndelagsdagen er en attraktiv møteplass for studenter/nyutda
 nnede og arbeids- og næringsliv i Trondheimsregionen.
DTEND:20160407T153000
DTSTAMP:20260421T100238Z
DTSTART:20160407T100000
LOCATION:Clarion Hotel & Congress\, Trondheim\, Brattørkaia 1\, 7010 Trond
 heim
SEQUENCE:0
SUMMARY:Trøndelagsdagen
UID:3839eabc-1125-4d27-82b5-cb6074bf88d7
END:VEVENT
END:VCALENDAR
