BEGIN:VCALENDAR
METHOD:PUBLISH
PRODID:https://www.sintef.no
VERSION:2.0
BEGIN:VEVENT
DESCRIPTION:Møt SINTEF i Realfagsbiblioteket mellom kl 12-16 på den store 
 karriere- og nettverksdagen for teknologi og realfag.
DTEND:20160218T160000
DTSTAMP:20260421T102209Z
DTSTART:20160218T120000
LOCATION:Realfagsbiblioteket\, Vilhelm Bjerknes hus\, UiO Blindern\, Oslo\
 , Vilhelm Bjerknes Hus 0851 Oslo
SEQUENCE:0
SUMMARY:RealKarriere
UID:50ccdb9e-0e6c-41ea-b3e1-ba3ffd49892c
END:VEVENT
END:VCALENDAR
