BEGIN:VCALENDAR
METHOD:PUBLISH
PRODID:https://www.sintef.no
VERSION:2.0
BEGIN:VEVENT
DESCRIPTION:TEMA-dag om teknologi og næringsmuligheter: Hydrogen som drivs
 toff muliggjør utslippsfri transport i alt fra personbiler og små varebil
 er til lastebiler\, båter og tog med lang rekkevidde. Teknologien er mode
 n for utrulling\, og de kommende årene vil vi se utbygging av hydrogen-st
 asjoner og store kostnadsreduksjoner ved storskala produksjon og bruk.
DTEND:20160209T160000
DTSTAMP:20260421T102324Z
DTSTART:20160209T083000
LOCATION:Statens hus\, Trondheim\, Prinsensgt. 1\, 7013 Trondheim
SEQUENCE:0
SUMMARY:Hydrogen for utslippsfri transport
UID:fc32d680-a2f1-4c94-90de-df7fab53b511
END:VEVENT
END:VCALENDAR
