BEGIN:VCALENDAR
METHOD:PUBLISH
PRODID:https://www.sintef.no
VERSION:2.0
BEGIN:VEVENT
DESCRIPTION:The first part of the event will focus on few quantitative ass
 essments of the post 2020 evolution of the Target Model (TM)\, including:
  market performance of energy only\, capacity remuneration and renewable 
 energy sources (RES) support schemes\; short-term operational impacts of 
 the timing of markets and RES support schemes\; impact of renewables supp
 ort mechanism on incentive for demand-response deployment.
DTEND:20160519T160000
DTSTAMP:20260421T102559Z
DTSTART:20160519T083000
LOCATION:Thon Hotel\, Rue de la Loi 75\, B-1040 Bruxelles
SEQUENCE:0
SUMMARY:How to pave the road into the renewable future: Electricity market
  analyses and policy implications for 2020-2030
UID:682e1639-aa8b-4494-b599-c84b6664d51b
END:VEVENT
END:VCALENDAR
