BEGIN:VCALENDAR
METHOD:PUBLISH
PRODID:https://www.sintef.no
VERSION:2.0
BEGIN:VEVENT
DESCRIPTION:Påmeldingsfrist: 12.09.2016\n\nThe H2020 project GATEWAY aims 
 to develop a pilot case for a cross-border transport infrastructure conne
 cting major European CO2 sources and sinks. The pilot case aims to contri
 bute to Rotterdam Nucleus being a PCI candidate in 2017.
DTEND:20160913T200000
DTSTAMP:20260421T102259Z
DTSTART:20160913T180000
LOCATION:Hotel Leopold Brussels EU\, Rue du Luxembourg 35\, 1050 Brussels
SEQUENCE:0
SUMMARY:GATEWAY alignment meeting
UID:ab0ca4ba-97cb-47ca-b428-02f62fa13070
END:VEVENT
END:VCALENDAR
