BEGIN:VCALENDAR
METHOD:PUBLISH
PRODID:https://www.sintef.no
VERSION:2.0
BEGIN:VEVENT
DESCRIPTION:SINTEF inviterer til workshop med hovedfokus på flybiodrivstof
 f produksjon\, erfaringer og økonomi.
DTEND:20160526T123000
DTSTAMP:20260421T103338Z
DTSTART:20160525T090000
LOCATION:Radisson Blu Royal Garden Hotel\, Trondheim\, Kjøpmannsgata 73\, 
 Trondheim
SEQUENCE:0
SUMMARY:GAFT/IEA workshop - Aviation Biofuels through Biomass Gasification
UID:13b0f2f1-1cf4-4f61-bf4a-f8663e9a266e
END:VEVENT
END:VCALENDAR
