BEGIN:VCALENDAR
METHOD:PUBLISH
PRODID:https://www.sintef.no
VERSION:2.0
BEGIN:VEVENT
DESCRIPTION:Møt SINTEF på eurêka. Vi har stand 2 i 1. etg i Realfagsbygget
 \, ved auditorium R5 og R7. Vi holder bedriftspresentasjon kl 15:15 i R2.
DTEND:20160126T150000
DTSTAMP:20260421T103155Z
DTSTART:20160126T100000
LOCATION:Realfagsbygget\, NTNU\, Trondheim\, Høgskoleringen 5\, 7034 Trond
 heim
SEQUENCE:0
SUMMARY:EUREKA 2016
UID:2f201772-e3de-4a39-b2b8-c319eb059369
END:VEVENT
END:VCALENDAR
