BEGIN:VCALENDAR
METHOD:PUBLISH
PRODID:https://www.sintef.no
VERSION:2.0
BEGIN:VEVENT
DESCRIPTION:Da en fagjury nedsatt av Aftenposten i 2012 kåret de viktigste
  oppfinnelsene i Norge etter 1980 kom flerfaseteknologien på topp. Juryen
  slo fast at teknologien har vært helt avgjørende for norsk utvinning av 
 olje og gass siden midten av 1980 tallet og har bidratt til å skape verdi
 er for hundretalls av milliarder kroner.
DTEND:20160303T170000
DTSTAMP:20260421T102612Z
DTSTART:20160303T100000
LOCATION:Flerfaselaboratoriene (Tiller)\, Tillerbruvegen 200\, 7092 Tiller
SEQUENCE:0
SUMMARY:Åpning av SINTEFs flerfaselaboratorium 3.0 og NCEI Flow Assurance 
 Conference
UID:a7340b1d-7093-430c-b797-736bc39eded8
END:VEVENT
END:VCALENDAR
