BEGIN:VCALENDAR
METHOD:PUBLISH
PRODID:https://www.sintef.no
VERSION:2.0
BEGIN:VEVENT
DESCRIPTION:The NORDBATT 2 conference will be hosted in Trondheim\, Norway
  on the 2-3 December by NTNU and SINTEF.
DTEND:20151203T160000
DTSTAMP:20260421T102259Z
DTSTART:20151202T090000
LOCATION:Realfagbygget\, Høgskoleringen 5
SEQUENCE:0
SUMMARY:NORDBATT
UID:62fd3c87-df15-4da2-a1cd-016857663d53
END:VEVENT
END:VCALENDAR
